BEGIN:VCALENDAR
VERSION:2.0
PRODID:-//Yellowstone Region SCCA - ECPv6.15.20//NONSGML v1.0//EN
CALSCALE:GREGORIAN
METHOD:PUBLISH
X-WR-CALNAME:Yellowstone Region SCCA
X-ORIGINAL-URL:https://yellowstonescca.com
X-WR-CALDESC:Events for Yellowstone Region SCCA
REFRESH-INTERVAL;VALUE=DURATION:PT1H
X-Robots-Tag:noindex
X-PUBLISHED-TTL:PT1H
BEGIN:VTIMEZONE
TZID:America/Denver
BEGIN:DAYLIGHT
TZOFFSETFROM:-0700
TZOFFSETTO:-0600
TZNAME:MDT
DTSTART:20240310T090000
END:DAYLIGHT
BEGIN:STANDARD
TZOFFSETFROM:-0600
TZOFFSETTO:-0700
TZNAME:MST
DTSTART:20241103T080000
END:STANDARD
BEGIN:DAYLIGHT
TZOFFSETFROM:-0700
TZOFFSETTO:-0600
TZNAME:MDT
DTSTART:20250309T090000
END:DAYLIGHT
BEGIN:STANDARD
TZOFFSETFROM:-0600
TZOFFSETTO:-0700
TZNAME:MST
DTSTART:20251102T080000
END:STANDARD
BEGIN:DAYLIGHT
TZOFFSETFROM:-0700
TZOFFSETTO:-0600
TZNAME:MDT
DTSTART:20260308T090000
END:DAYLIGHT
BEGIN:STANDARD
TZOFFSETFROM:-0600
TZOFFSETTO:-0700
TZNAME:MST
DTSTART:20261101T080000
END:STANDARD
END:VTIMEZONE
BEGIN:VEVENT
DTSTART;TZID=America/Denver:20251004T073000
DTEND;TZID=America/Denver:20251005T170000
DTSTAMP:20260420T055207
CREATED:20250212T192825Z
LAST-MODIFIED:20250606T152303Z
UID:7210-1759563000-1759683600@yellowstonescca.com
SUMMARY:Motorin' at the Metra
DESCRIPTION:Last autocross of the season. \n\n\n\nREGISTER HERE: MotorsportReg \n\n\n\nPre-register here to help speed up the moring of the event. Pre-registation is not required but does help us a lot. Remember the morning of the event we accept cash or credit card only. \n\n\n\nPre-pay here and your credit card won’t be charged until after the event.  \n\n\n\nRegistration Fees for SCCA Yellowstone Region 108 Autocross: \n\n\n\nRegular SCCA Members $50.00 \n\n\n\nNon-Members $65.00 \n\n\n\nFirst Time Autocross Drivers $40.00
URL:https://yellowstonescca.com/event/motorin-at-the-metra-2025/
LOCATION:MetraPark Upper Lot\, Alkali Creek Rd\, Billings\, MT\, 59105\, United States
CATEGORIES:Autocross
ATTACH;FMTTYPE=image/jpeg:https://yellowstonescca.com/wp-content/uploads/T3A9599-scaled.jpg
END:VEVENT
BEGIN:VEVENT
DTSTART;TZID=America/Denver:20251024T180000
DTEND;TZID=America/Denver:20251024T203000
DTSTAMP:20260420T055207
CREATED:20251016T164451Z
LAST-MODIFIED:20251016T164612Z
UID:7444-1761328800-1761337800@yellowstonescca.com
SUMMARY:End of Year Banquet
DESCRIPTION:Everyone is welcome to join us for our end of year banquet!  \n\n\n\nBring a side\, dessert\, or a crockpot of something good. \n\n\n\nDogs and burgers will be provided by the Club. \n\n\n\nFeel free to bring your own non-alcoholic beverages. \n\n\n\nWe will be giving away the traveling Spirit of the Sport and Most Improved Driver trophy as well!
URL:https://yellowstonescca.com/event/end-of-year-banquet-2025/
LOCATION:HDR Conference Room\, 2909 Millennium Circle\, Billings\, MT\, 59102\, United States
CATEGORIES:Social
ATTACH;FMTTYPE=image/jpeg:https://yellowstonescca.com/wp-content/uploads/IMG_3313-scaled.jpg
END:VEVENT
END:VCALENDAR