BEGIN:VCALENDAR
VERSION:2.0
PRODID:-//Yellowstone Region SCCA - ECPv6.15.20//NONSGML v1.0//EN
CALSCALE:GREGORIAN
METHOD:PUBLISH
X-WR-CALNAME:Yellowstone Region SCCA
X-ORIGINAL-URL:https://yellowstonescca.com
X-WR-CALDESC:Events for Yellowstone Region SCCA
REFRESH-INTERVAL;VALUE=DURATION:PT1H
X-Robots-Tag:noindex
X-PUBLISHED-TTL:PT1H
BEGIN:VTIMEZONE
TZID:America/Denver
BEGIN:DAYLIGHT
TZOFFSETFROM:-0700
TZOFFSETTO:-0600
TZNAME:MDT
DTSTART:20240310T090000
END:DAYLIGHT
BEGIN:STANDARD
TZOFFSETFROM:-0600
TZOFFSETTO:-0700
TZNAME:MST
DTSTART:20241103T080000
END:STANDARD
BEGIN:DAYLIGHT
TZOFFSETFROM:-0700
TZOFFSETTO:-0600
TZNAME:MDT
DTSTART:20250309T090000
END:DAYLIGHT
BEGIN:STANDARD
TZOFFSETFROM:-0600
TZOFFSETTO:-0700
TZNAME:MST
DTSTART:20251102T080000
END:STANDARD
BEGIN:DAYLIGHT
TZOFFSETFROM:-0700
TZOFFSETTO:-0600
TZNAME:MDT
DTSTART:20260308T090000
END:DAYLIGHT
BEGIN:STANDARD
TZOFFSETFROM:-0600
TZOFFSETTO:-0700
TZNAME:MST
DTSTART:20261101T080000
END:STANDARD
END:VTIMEZONE
BEGIN:VEVENT
DTSTART;TZID=America/Denver:20250920T073000
DTEND;TZID=America/Denver:20250921T170000
DTSTAMP:20260420T072316
CREATED:20250212T192653Z
LAST-MODIFIED:20250606T152218Z
UID:7208-1758353400-1758474000@yellowstonescca.com
SUMMARY:Coneheads
DESCRIPTION:Head up to Helena for Coneheads from Montana Region! \n\n\n\nMore info and registration coming soon.
URL:https://yellowstonescca.com/event/coneheads-2025/
LOCATION:Emergency Services Facility\, 3425 Skyway Dr\, Helena\, MT\, 59601\, United States
CATEGORIES:Autocross
ATTACH;FMTTYPE=image/jpeg:https://yellowstonescca.com/wp-content/uploads/IMG-8005-scaled.jpg
END:VEVENT
END:VCALENDAR