BEGIN:VCALENDAR
VERSION:2.0
PRODID:-//Yellowstone Region SCCA - ECPv6.15.20//NONSGML v1.0//EN
CALSCALE:GREGORIAN
METHOD:PUBLISH
X-WR-CALNAME:Yellowstone Region SCCA
X-ORIGINAL-URL:https://yellowstonescca.com
X-WR-CALDESC:Events for Yellowstone Region SCCA
REFRESH-INTERVAL;VALUE=DURATION:PT1H
X-Robots-Tag:noindex
X-PUBLISHED-TTL:PT1H
BEGIN:VTIMEZONE
TZID:America/Denver
BEGIN:DAYLIGHT
TZOFFSETFROM:-0700
TZOFFSETTO:-0600
TZNAME:MDT
DTSTART:20240310T090000
END:DAYLIGHT
BEGIN:STANDARD
TZOFFSETFROM:-0600
TZOFFSETTO:-0700
TZNAME:MST
DTSTART:20241103T080000
END:STANDARD
BEGIN:DAYLIGHT
TZOFFSETFROM:-0700
TZOFFSETTO:-0600
TZNAME:MDT
DTSTART:20250309T090000
END:DAYLIGHT
BEGIN:STANDARD
TZOFFSETFROM:-0600
TZOFFSETTO:-0700
TZNAME:MST
DTSTART:20251102T080000
END:STANDARD
BEGIN:DAYLIGHT
TZOFFSETFROM:-0700
TZOFFSETTO:-0600
TZNAME:MDT
DTSTART:20260308T090000
END:DAYLIGHT
BEGIN:STANDARD
TZOFFSETFROM:-0600
TZOFFSETTO:-0700
TZNAME:MST
DTSTART:20261101T080000
END:STANDARD
END:VTIMEZONE
BEGIN:VEVENT
DTSTART;TZID=America/Denver:20250809T080000
DTEND;TZID=America/Denver:20250810T170000
DTSTAMP:20260420T090033
CREATED:20250804T142648Z
LAST-MODIFIED:20250804T142737Z
UID:7415-1754726400-1754845200@yellowstonescca.com
SUMMARY:Region 52 - Cords\, I see no stikin cords
DESCRIPTION:Event at Helena run by Region 52. \n\n\n\nRegistration and info here: MotorsportReg
URL:https://yellowstonescca.com/event/region-52-cords-i-see-no-stikin-cords/
LOCATION:Emergency Services Facility\, 3425 Skyway Dr\, Helena\, MT\, 59601\, United States
CATEGORIES:Autocross
ATTACH;FMTTYPE=image/jpeg:https://yellowstonescca.com/wp-content/uploads/image0-jpeg.webp
END:VEVENT
BEGIN:VEVENT
DTSTART;TZID=America/Denver:20250814T190000
DTEND;TZID=America/Denver:20250814T210000
DTSTAMP:20260420T090033
CREATED:20250804T142210Z
LAST-MODIFIED:20250804T142213Z
UID:7413-1755198000-1755205200@yellowstonescca.com
SUMMARY:August Meeting
DESCRIPTION:Monthly Member Meeting. All are welcome to attend.
URL:https://yellowstonescca.com/event/august-meeting-2025/
LOCATION:Laurel Auto Clinic\, 619 E. Main St.\, Laurel\, MT\, 59044\, United States
CATEGORIES:Member Meeting
ATTACH;FMTTYPE=image/png:https://yellowstonescca.com/wp-content/uploads/LaurelAutoClinic.png
END:VEVENT
BEGIN:VEVENT
DTSTART;TZID=America/Denver:20250816T080000
DTEND;TZID=America/Denver:20250816T170000
DTSTAMP:20260420T090033
CREATED:20250804T143058Z
LAST-MODIFIED:20250804T143420Z
UID:7417-1755331200-1755363600@yellowstonescca.com
SUMMARY:Region 52 - Round and Round We Go
DESCRIPTION:Event at The Commons in Bozeman run by Region 52. \n\n\n\nRegistration and info here: MotorsportReg
URL:https://yellowstonescca.com/event/region-52-round-and-round-we-go/
LOCATION:The Commons\, 1794 E Baxter Ln\, Bozeman\, Montana\, 59718\, United States
CATEGORIES:Autocross
ATTACH;FMTTYPE=image/avif:https://yellowstonescca.com/wp-content/uploads/download.avif
END:VEVENT
END:VCALENDAR