BEGIN:VCALENDAR
VERSION:2.0
PRODID:-//Yellowstone Region SCCA - ECPv6.15.20//NONSGML v1.0//EN
CALSCALE:GREGORIAN
METHOD:PUBLISH
X-WR-CALNAME:Yellowstone Region SCCA
X-ORIGINAL-URL:https://yellowstonescca.com
X-WR-CALDESC:Events for Yellowstone Region SCCA
REFRESH-INTERVAL;VALUE=DURATION:PT1H
X-Robots-Tag:noindex
X-PUBLISHED-TTL:PT1H
BEGIN:VTIMEZONE
TZID:America/Denver
BEGIN:DAYLIGHT
TZOFFSETFROM:-0700
TZOFFSETTO:-0600
TZNAME:MDT
DTSTART:20240310T090000
END:DAYLIGHT
BEGIN:STANDARD
TZOFFSETFROM:-0600
TZOFFSETTO:-0700
TZNAME:MST
DTSTART:20241103T080000
END:STANDARD
BEGIN:DAYLIGHT
TZOFFSETFROM:-0700
TZOFFSETTO:-0600
TZNAME:MDT
DTSTART:20250309T090000
END:DAYLIGHT
BEGIN:STANDARD
TZOFFSETFROM:-0600
TZOFFSETTO:-0700
TZNAME:MST
DTSTART:20251102T080000
END:STANDARD
BEGIN:DAYLIGHT
TZOFFSETFROM:-0700
TZOFFSETTO:-0600
TZNAME:MDT
DTSTART:20260308T090000
END:DAYLIGHT
BEGIN:STANDARD
TZOFFSETFROM:-0600
TZOFFSETTO:-0700
TZNAME:MST
DTSTART:20261101T080000
END:STANDARD
END:VTIMEZONE
BEGIN:VEVENT
DTSTART;TZID=America/Denver:20250517T073000
DTEND;TZID=America/Denver:20250518T170000
DTSTAMP:20260420T145654
CREATED:20250212T191132Z
LAST-MODIFIED:20250212T191140Z
UID:7197-1747467000-1747587600@yellowstonescca.com
SUMMARY:Aviators Cup
DESCRIPTION:It’s our season opener! Come join us at Bridger Airport for our first autocross event of the 2025 season! \n\n\n\nThis will be a 2-day event taking place on Saturday\, May 17th and Sunday\, May 18th. \n\n\n\nDriver’s meeting is at 9AM\, but please show up a little early to tech your car and walk the course.
URL:https://yellowstonescca.com/event/aviators-cup-2025/
LOCATION:Bridger Airport\, 270 S 5th St\, Bridger\, MT\, 59014\, United States
CATEGORIES:Autocross
ATTACH;FMTTYPE=image/jpeg:https://yellowstonescca.com/wp-content/uploads/Bridgerpits22-scaled.jpg
END:VEVENT
BEGIN:VEVENT
DTSTART;TZID=America/Denver:20250503T110000
DTEND;TZID=America/Denver:20250503T150000
DTSTAMP:20260420T145654
CREATED:20250212T190732Z
LAST-MODIFIED:20250416T171839Z
UID:7195-1746270000-1746284400@yellowstonescca.com
SUMMARY:Tech Day
DESCRIPTION:Come join us to get your car tech done ahead of the upcoming autocross season and check out what others are driving this season! It’s free! \n\n\n\nStay tuned on our social media for the latest updates.
URL:https://yellowstonescca.com/event/tech-day-2025/
LOCATION:Archie Cochrane Ford\, 2133 King Ave W\, Billings\, MT\, 59102\, United States
CATEGORIES:Tech Day
ATTACH;FMTTYPE=image/jpeg:https://yellowstonescca.com/wp-content/uploads/IMG_2432-scaled.jpg
END:VEVENT
BEGIN:VEVENT
DTSTART;TZID=America/Denver:20250413T073000
DTEND;TZID=America/Denver:20250413T160000
DTSTAMP:20260420T145654
CREATED:20250212T190021Z
LAST-MODIFIED:20250314T144621Z
UID:7191-1744529400-1744560000@yellowstonescca.com
SUMMARY:RallyCross #7 Season Finale
DESCRIPTION:The last rally of the season. \n\n\n\nREGISTER HERE: MotorsportReg \n\n\n\nCome join us for some fun in the dirt. \n\n\n\nNot sure about Rallycross\, just think autocross but in the dirt\, more sliding\, more fun. We will be running a points award system for the entire Rallycross season which will pay out at the end of the season. \n\n\n\nTech and registration open at 8:00 am\, drivers meeting will happen as close to 9 as possible and runs will begin before 10.  The drivers meeting is mandatory for all drivers so please come early and plan accordingly. \n\n\n\nSCCA members will be $40 \n\n\n\nNon- SCCA members will be $55 \n\n\n\nHelp us by registering early so we know how many to expect. \n\n\n\nEvent requirements\n\n\n\nA Valid driver’s license or learners permit (permit restrictions apply) is required for all drivers. \n\n\n\nIf you have questions about what car you can compete with you can contact Matthew Boggio at (406)-671-6747. Text is best. \n\n\n\nSetup is at 7:00 am. On-site registration and pre-registration check-in are open from 7:30 to 8:45 am. We accept cash or credit card only. Please be there on time as late registrations may not be accepted. If your car needs tech inspection\, please be there by 7:30. We hold a MANDATORY driver’s meeting at 9:00am and start running shortly after.  All drivers MUST attend the meeting in order to participate.  Please try to arrive at the event site no later 7:45am to ensure you have time for registration/check-in\, getting your car ready\, and walking the course before the meeting. We generally take a short lunch break about noon and wrap up the day around 4:00 pm. \n\n\n\nThere will not be concessions so remember to bring a lunch. \n\n\n\nAll competitors are required to perform work assignments when they’re not running. Failure to do so could result in disqualification. If you have a special circumstance\, such as a disability\, please make the event staff aware at registration check-in. If anyone is working in your stead\, they also need to attend the drivers meeting. \n\n\n\nA brief tech inspection will be performed\, checking for things like loose wheels\, excessive steering slop\, spongy breaks\, etc.  The number one cause of tech failures is not having the battery properly tied down\, please double check that before the event (no bungi cords). \n\n\n\nThe SCCA classes all cars based on what the car is\, and what modifications have been done.  The SCCA Rulebook (there is a link on our website) contains all the classing information.  Please try to class your car before you arrive but feel free to ask at an event or better yet use the “contact us” feature on our website or ask on our Facebook if you need some help classing your car before event day. \n\n\n\nJoin the SCCA @ www.scca.com \n\n\n\nYearly Membership is $85.00 for single and $105.00 for family. (subject to change without notice) \n\n\n\nIf you are interested in YRSCCA merchandise we currently have hats and t- shirts in grey and blue. Limited sizes of blue shirts available.
URL:https://yellowstonescca.com/event/rallycross-7-2024/
LOCATION:Big Sky Speedway\, 11298 Roundup Rd\, Shepherd\, MT\, 59079\, United States
CATEGORIES:RallyCross
ATTACH;FMTTYPE=image/jpeg:https://yellowstonescca.com/wp-content/uploads/Rally24Slides-5-jpg.webp
END:VEVENT
BEGIN:VEVENT
DTSTART;TZID=America/Denver:20250316T073000
DTEND;TZID=America/Denver:20250316T160000
DTSTAMP:20260420T145654
CREATED:20250212T185539Z
LAST-MODIFIED:20250314T144447Z
UID:7188-1742110200-1742140800@yellowstonescca.com
SUMMARY:RallyCross #6
DESCRIPTION:REGISTER HERE: MotorsportReg \n\n\n\nCome join us for some fun in the dirt. \n\n\n\nNot sure about Rallycross\, just think autocross but in the dirt\, more sliding\, more fun. We will be running a points award system for the entire Rallycross season which will pay out at the end of the season. \n\n\n\nTech and registration open at 8:00 am\, drivers meeting will happen as close to 9 as possible and runs will begin before 10.  The drivers meeting is mandatory for all drivers so please come early and plan accordingly. \n\n\n\nSCCA members will be $40 \n\n\n\nNon- SCCA members will be $55 \n\n\n\nHelp us by registering early so we know how many to expect. \n\n\n\nEvent requirements\n\n\n\nA Valid driver’s license or learners permit (permit restrictions apply) is required for all drivers. \n\n\n\nIf you have questions about what car you can compete with you can contact Matthew Boggio at (406)-671-6747. Text is best. \n\n\n\nSetup is at 7:00 am. On-site registration and pre-registration check-in are open from 7:30 to 8:45 am. We accept cash or credit card only. Please be there on time as late registrations may not be accepted. If your car needs tech inspection\, please be there by 7:30. We hold a MANDATORY driver’s meeting at 9:00am and start running shortly after.  All drivers MUST attend the meeting in order to participate.  Please try to arrive at the event site no later 7:45am to ensure you have time for registration/check-in\, getting your car ready\, and walking the course before the meeting. We generally take a short lunch break about noon and wrap up the day around 4:00 pm. \n\n\n\nThere will not be concessions so remember to bring a lunch. \n\n\n\nAll competitors are required to perform work assignments when they’re not running. Failure to do so could result in disqualification. If you have a special circumstance\, such as a disability\, please make the event staff aware at registration check-in. If anyone is working in your stead\, they also need to attend the drivers meeting. \n\n\n\nA brief tech inspection will be performed\, checking for things like loose wheels\, excessive steering slop\, spongy breaks\, etc.  The number one cause of tech failures is not having the battery properly tied down\, please double check that before the event (no bungi cords). \n\n\n\nThe SCCA classes all cars based on what the car is\, and what modifications have been done.  The SCCA Rulebook (there is a link on our website) contains all the classing information.  Please try to class your car before you arrive but feel free to ask at an event or better yet use the “contact us” feature on our website or ask on our Facebook if you need some help classing your car before event day. \n\n\n\nJoin the SCCA @ www.scca.com \n\n\n\nYearly Membership is $85.00 for single and $105.00 for family. (subject to change without notice) \n\n\n\nIf you are interested in YRSCCA merchandise we currently have hats and t- shirts in grey and blue. Limited sizes of blue shirts available.
URL:https://yellowstonescca.com/event/rallycross-6-2024/
LOCATION:Big Sky Speedway\, 11298 Roundup Rd\, Shepherd\, MT\, 59079\, United States
CATEGORIES:RallyCross
ATTACH;FMTTYPE=image/jpeg:https://yellowstonescca.com/wp-content/uploads/Rally24Slides-13-jpg.webp
END:VEVENT
END:VCALENDAR